BEGIN:VCALENDAR
VERSION:2.0
PRODID:-//Made in Marsberg - ECPv6.15.13.1//NONSGML v1.0//EN
CALSCALE:GREGORIAN
METHOD:PUBLISH
X-ORIGINAL-URL:https://www.made-in-marsberg.nrw
X-WR-CALDESC:Veranstaltungen für Made in Marsberg
REFRESH-INTERVAL;VALUE=DURATION:PT1H
X-Robots-Tag:noindex
X-PUBLISHED-TTL:PT1H
BEGIN:VTIMEZONE
TZID:Europe/Paris
BEGIN:DAYLIGHT
TZOFFSETFROM:+0100
TZOFFSETTO:+0200
TZNAME:CEST
DTSTART:20190331T010000
END:DAYLIGHT
BEGIN:STANDARD
TZOFFSETFROM:+0200
TZOFFSETTO:+0100
TZNAME:CET
DTSTART:20191027T010000
END:STANDARD
BEGIN:DAYLIGHT
TZOFFSETFROM:+0100
TZOFFSETTO:+0200
TZNAME:CEST
DTSTART:20200329T010000
END:DAYLIGHT
BEGIN:STANDARD
TZOFFSETFROM:+0200
TZOFFSETTO:+0100
TZNAME:CET
DTSTART:20201025T010000
END:STANDARD
BEGIN:DAYLIGHT
TZOFFSETFROM:+0100
TZOFFSETTO:+0200
TZNAME:CEST
DTSTART:20210328T010000
END:DAYLIGHT
BEGIN:STANDARD
TZOFFSETFROM:+0200
TZOFFSETTO:+0100
TZNAME:CET
DTSTART:20211031T010000
END:STANDARD
BEGIN:DAYLIGHT
TZOFFSETFROM:+0100
TZOFFSETTO:+0200
TZNAME:CEST
DTSTART:20220327T010000
END:DAYLIGHT
BEGIN:STANDARD
TZOFFSETFROM:+0200
TZOFFSETTO:+0100
TZNAME:CET
DTSTART:20221030T010000
END:STANDARD
BEGIN:DAYLIGHT
TZOFFSETFROM:+0100
TZOFFSETTO:+0200
TZNAME:CEST
DTSTART:20230326T010000
END:DAYLIGHT
BEGIN:STANDARD
TZOFFSETFROM:+0200
TZOFFSETTO:+0100
TZNAME:CET
DTSTART:20231029T010000
END:STANDARD
END:VTIMEZONE
BEGIN:VEVENT
DTSTART;TZID=Europe/Paris:20221129T193000
DTEND;TZID=Europe/Paris:20221129T203000
DTSTAMP:20260419T182017
CREATED:20221117T225042Z
LAST-MODIFIED:20221118T163909Z
UID:1806-1669750200-1669753800@www.made-in-marsberg.nrw
SUMMARY:RESTART: Boulder-Event
DESCRIPTION:Made in Marsberg ist zurück und will mit Dir hoch hinaus!\nLiebe Marsberger Jungunternehmerinnen und Jungunternehmer\,  \nleider war es durch die Pandemie ruhig um uns geworden – jetzt melden wir uns aber zurück und wollen mit Euch gleich hoch hinaus! \nWir laden Euch zu einem lockeren Zusammensein in der Boulderhalle im Sportpark Marsberg ein. So können wir ein bisschen aktiv sein und gleichzeitig wieder in den Austausch kommen.  \nMit einem Kostenbeitrag von 5\,- € seid Ihr dabei und für Getränke wird gesorgt sein. \nMeldet Euch bitte über den weiter unten befindlichen Button bis einschließlich 28.11.2022 an. \nWir freuen uns darauf\, Euch wiederzusehen! \nViele Grüße \nKatharina\, Theresa\, Benjamin\, Oliver und Andreas
URL:https://www.made-in-marsberg.nrw/veranstaltung/2022-11-29-restart-boulder-event
LOCATION:Sportpark Marsberg / Tennishalle\, Diemelbogen 1\, Marsberg\, 34431\, Deutschland
CATEGORIES:Sport,Stammtisch
ORGANIZER;CN="Made in Marsberg":MAILTO:info@made-in-marsberg.nrw
END:VEVENT
BEGIN:VEVENT
DTSTART;TZID=Europe/Paris:20200811T190000
DTEND;TZID=Europe/Paris:20200811T190000
DTSTAMP:20260419T182017
CREATED:20200728T174009Z
LAST-MODIFIED:20200803T061224Z
UID:1710-1597172400-1597172400@www.made-in-marsberg.nrw
SUMMARY:Podiumsdiskussion zur Kommunalwahl 2020 - Bürgermeisterkandidaten stellen sich Fragen junger Unternehmer.
DESCRIPTION:Am 13. September soll sich entscheiden\, wer die nächsten fünf Jahre die Geschicke unserer Stadt lenken wird. Zur Wahl stehen zwei Kandidaten. Für die CDU geht der Erlinghäuser Ortsbürgermeister\, Kreistagsabgeordnete\, Werkzeugmacher und Betriebsratsvorsitzende Thomas Schröder ins Rennen. Dagegen tritt mit dem ehemaligen Geschäftsführer des Stadtmarketings und Maschinenbauingenieur Rüdiger Nentwig\, ein parteiloser Kandidat an\, welcher von der SPD unterstützt wird. Aufgrund der Corona-Pandemie konnten die Kandidaten ihren Wahlkampf erst spät beginnen. Um bei der eigenen Wahl eine fundiertere Entscheidung treffen zu können und den zukünftigen Bürgermeister – auch für die potentielle Zusammenarbeit bei eventuellen\, zukünftigen Projekten – kennenzulernen\, wollen wir sie treffen und mit ihnen über Themen sprechen\, die uns als Bürgerinnen und Bürger sowie junge Unternehmerinnen und Unternehmer beschäftigen. \nSammlung von Fragen/Themen \nUm warm zu werden\, möchten wir mit Fragen einsteigen\, die wir zuvor zusammengetragen haben. Wenn Du eine Frage oder ein Thema hast\, die/das wir in der Runde diskutieren könnten\, dann teile uns dies/-e gern über unser Kontaktformular mit\, gern auch wenn Du an dem Abend keine Zeit hast oder gar nicht zu unserer Zielgruppe gehörst. Wir planen eine Zusammenfassung der Antworten/Diskussion\, ggf. auch als Video\, zeitnah nach der Veranstaltung zu veröffentlichen. \nRegeln und Maßnahmen aufgrund der Corona-Pandemie \nSelbstverständlich führen wir die Veranstaltung unter Einhaltung der aktuell bis mindestens zum 11. August gültigen Coronaschutzverordnung der nordrhein-westfälischen Landesregierung durch. Da wir als verantwortungsvolle Unternehmerinnen und Unternehmer das Risiko einer Ansteckung besonders gering halte möchten\, wollen wir trotz der Möglichkeit der Rückverfolgbarkeit über einen Sitzplan den Mindestabstand von 1\,5 Metern einhalten. Deshalb wird die Veranstaltung in der „Tenne“ des Deutschen Hauses stattfinden und wir begrenzen die Anzahl der Anmeldungen\, die wieder über das Kontaktformular auf unserer Website getätigt werden können. First Come\, First Serve – also melde Dich schnell an! Bitte beachte: Außerhalb des Sitzplatzes gilt die Maskenpflicht.
URL:https://www.made-in-marsberg.nrw/veranstaltung/2020-08-11-podiumsdiskussion
LOCATION:Deutsches Haus\, Hauptstraße 8\, Marsberg\, 34431\, Deutschland
ORGANIZER;CN="Made in Marsberg":MAILTO:info@made-in-marsberg.nrw
END:VEVENT
BEGIN:VEVENT
DTSTART;TZID=Europe/Paris:20200310T190000
DTEND;TZID=Europe/Paris:20200310T210000
DTSTAMP:20260419T182017
CREATED:20200220T084651Z
LAST-MODIFIED:20200426T040404Z
UID:1502-1583866800-1583874000@www.made-in-marsberg.nrw
SUMMARY:Erfolgreiche Projekte umsetzen – In der Stadt und im Unternehmen
DESCRIPTION:Wie lege ich Ziele fest? Wie suche in MitstreiterInnen? Wie gehe ich mit Gegenwind um? Zu diesen und anderen Fragen haben wir Referentinnen aus zwei spannenden und erfolgreichen Unternehmungen gewinnen können. Sandra Pohlmeyer von der Bürgerwiese Marsberg sowie Sandra Scholand und Jürgen Köchling von ARTvent stehen uns nach kurzen Vorträgen Rede und Antwort. Wie wurde aus einer Idee eine erfolgreiche Umsetzung und wie verstetigt sich das Projekt. Welche Schlüsse lassen sich für den Unternehmensalltag ableiten.
URL:https://www.made-in-marsberg.nrw/veranstaltung/2020-03-10-umsetzung-projekte
LOCATION:Deutsches Haus\, Hauptstraße 8\, Marsberg\, 34431\, Deutschland
ORGANIZER;CN="Made in Marsberg":MAILTO:info@made-in-marsberg.nrw
END:VEVENT
END:VCALENDAR